BEGIN:VCALENDAR
VERSION:2.0
PRODID:icalendar-ruby
CALSCALE:GREGORIAN
METHOD:PUBLISH
BEGIN:VEVENT
DTSTAMP:20260423T082744Z
UID:35-472992@harvestcommunity.tithelysetup5.com
DTSTART:20260401T233000Z
DTEND:20260402T010000Z
CLASS:PUBLIC
CREATED:20260422T212406
DESCRIPTION:
LAST-MODIFIED:20260422T212406
LOCATION:Harvest Community Church Litchfield\, 303 Gorman Avenue So.\, Suit
 e 400\, Litchfield\, MN
SUMMARY:Life Bible Class
URL;VALUE=URI:https://harvestccl.com/events/life-bible-class/2026-04-01
ATTACH;FILENAME=bible-4249164_1280.jpg;FMTTYPE=image/jpeg:https://dq5pwpg1q
 8ru0.cloudfront.net/2025/03/20/18/57/32/c7c343eb-a8df-4e67-8f9b-f094497ad0
 cd/bible-4249164_1280.jpg
END:VEVENT
END:VCALENDAR
